BEGIN:VCALENDAR
VERSION:2.0
PRODID:-//Ayto. Hondón de los Frailes - ECPv6.15.15//NONSGML v1.0//EN
CALSCALE:GREGORIAN
METHOD:PUBLISH
X-ORIGINAL-URL:https://www.hondondelosfrailes.es
X-WR-CALDESC:Eventos para Ayto. Hondón de los Frailes
REFRESH-INTERVAL;VALUE=DURATION:PT1H
X-Robots-Tag:noindex
X-PUBLISHED-TTL:PT1H
BEGIN:VTIMEZONE
TZID:Europe/Madrid
BEGIN:DAYLIGHT
TZOFFSETFROM:+0100
TZOFFSETTO:+0200
TZNAME:CEST
DTSTART:20180325T010000
END:DAYLIGHT
BEGIN:STANDARD
TZOFFSETFROM:+0200
TZOFFSETTO:+0100
TZNAME:CET
DTSTART:20181028T010000
END:STANDARD
BEGIN:DAYLIGHT
TZOFFSETFROM:+0100
TZOFFSETTO:+0200
TZNAME:CEST
DTSTART:20190331T010000
END:DAYLIGHT
BEGIN:STANDARD
TZOFFSETFROM:+0200
TZOFFSETTO:+0100
TZNAME:CET
DTSTART:20191027T010000
END:STANDARD
BEGIN:DAYLIGHT
TZOFFSETFROM:+0100
TZOFFSETTO:+0200
TZNAME:CEST
DTSTART:20200329T010000
END:DAYLIGHT
BEGIN:STANDARD
TZOFFSETFROM:+0200
TZOFFSETTO:+0100
TZNAME:CET
DTSTART:20201025T010000
END:STANDARD
BEGIN:DAYLIGHT
TZOFFSETFROM:+0100
TZOFFSETTO:+0200
TZNAME:CEST
DTSTART:20210328T010000
END:DAYLIGHT
BEGIN:STANDARD
TZOFFSETFROM:+0200
TZOFFSETTO:+0100
TZNAME:CET
DTSTART:20211031T010000
END:STANDARD
BEGIN:DAYLIGHT
TZOFFSETFROM:+0100
TZOFFSETTO:+0200
TZNAME:CEST
DTSTART:20220327T010000
END:DAYLIGHT
BEGIN:STANDARD
TZOFFSETFROM:+0200
TZOFFSETTO:+0100
TZNAME:CET
DTSTART:20221030T010000
END:STANDARD
END:VTIMEZONE
BEGIN:VEVENT
DTSTART;TZID=Europe/Madrid:20191228T173000
DTEND;TZID=Europe/Madrid:20191228T173000
DTSTAMP:20260425T123010
CREATED:20191209T070716Z
LAST-MODIFIED:20191209T070841Z
UID:10000021-1577554200-1577554200@www.hondondelosfrailes.es
SUMMARY:FLY EL HOMBRE PÁJARO
DESCRIPTION:
URL:https://www.hondondelosfrailes.es/event/35522/
LOCATION:TEATRO-AUDITORIO\, AVDA. ALBATERA S/N\, HONDÓN DE LOS FRAILES
CATEGORIES:CONCEJALÍA DE CULTURA,CONCEJALÍA DE FIESTAS,Cultura,Eventos,EXCMO. AYUNTAMIENTO DE HONDÓN DE LOS FRAILES,Infantil,TEATRO
ATTACH;FMTTYPE=image/jpeg:https://www.hondondelosfrailes.es/wp-content/uploads/2019/12/cartel-teatro-28-diciembre-1-scaled.jpg
END:VEVENT
BEGIN:VEVENT
DTSTART;TZID=Europe/Madrid:20211222T173000
DTEND;TZID=Europe/Madrid:20211222T190000
DTSTAMP:20260425T123010
CREATED:20211201T180355Z
LAST-MODIFIED:20211201T180355Z
UID:10000026-1640194200-1640199600@www.hondondelosfrailes.es
SUMMARY:NAVIDAD ROCK
DESCRIPTION:
URL:https://www.hondondelosfrailes.es/event/navidad-rock/
LOCATION:TEATRO-AUDITORIO\, AVDA. ALBATERA S/N\, HONDÓN DE LOS FRAILES
CATEGORIES:CONCEJALÍA DE CULTURA,Cultura,Eventos,EXCMO. AYUNTAMIENTO DE HONDÓN DE LOS FRAILES,Infantil,TEATRO
ATTACH;FMTTYPE=image/jpeg:https://www.hondondelosfrailes.es/wp-content/uploads/2021/12/Navidad-Rock-Hondon-de-los-Frailes.jpg
END:VEVENT
END:VCALENDAR