BEGIN:VCALENDAR
VERSION:2.0
PRODID:-//Ayto. Hondón de los Frailes - ECPv6.15.15//NONSGML v1.0//EN
CALSCALE:GREGORIAN
METHOD:PUBLISH
X-WR-CALNAME:Ayto. Hondón de los Frailes
X-ORIGINAL-URL:https://www.hondondelosfrailes.es
X-WR-CALDESC:Eventos para Ayto. Hondón de los Frailes
REFRESH-INTERVAL;VALUE=DURATION:PT1H
X-Robots-Tag:noindex
X-PUBLISHED-TTL:PT1H
BEGIN:VTIMEZONE
TZID:Europe/Madrid
BEGIN:DAYLIGHT
TZOFFSETFROM:+0100
TZOFFSETTO:+0200
TZNAME:CEST
DTSTART:20180325T010000
END:DAYLIGHT
BEGIN:STANDARD
TZOFFSETFROM:+0200
TZOFFSETTO:+0100
TZNAME:CET
DTSTART:20181028T010000
END:STANDARD
BEGIN:DAYLIGHT
TZOFFSETFROM:+0100
TZOFFSETTO:+0200
TZNAME:CEST
DTSTART:20190331T010000
END:DAYLIGHT
BEGIN:STANDARD
TZOFFSETFROM:+0200
TZOFFSETTO:+0100
TZNAME:CET
DTSTART:20191027T010000
END:STANDARD
BEGIN:DAYLIGHT
TZOFFSETFROM:+0100
TZOFFSETTO:+0200
TZNAME:CEST
DTSTART:20200329T010000
END:DAYLIGHT
BEGIN:STANDARD
TZOFFSETFROM:+0200
TZOFFSETTO:+0100
TZNAME:CET
DTSTART:20201025T010000
END:STANDARD
END:VTIMEZONE
BEGIN:VEVENT
DTSTART;TZID=Europe/Madrid:20190816T230000
DTEND;TZID=Europe/Madrid:20190816T230000
DTSTAMP:20260425T205134
CREATED:20190801T081659Z
LAST-MODIFIED:20190801T081659Z
UID:10000019-1565996400-1565996400@www.hondondelosfrailes.es
SUMMARY:Monólogo Raúl Antón\, viernes 16 de agosto a las 23:00 horas (Teatro-Auditorio)
DESCRIPTION: 
URL:https://www.hondondelosfrailes.es/event/monologo-raul-anton-viernes-16-de-agosto-a-las-2300-horas-teatro-auditorio/
LOCATION:TEATRO-AUDITORIO\, AVDA. ALBATERA S/N\, HONDÓN DE LOS FRAILES
CATEGORIES:CONCEJALÍA DE FIESTAS,Eventos,EXCMO. AYUNTAMIENTO DE HONDÓN DE LOS FRAILES,FIESTAS
ATTACH;FMTTYPE=image/jpeg:https://www.hondondelosfrailes.es/wp-content/uploads/2019/08/Raúl-Antón-1.jpg
END:VEVENT
END:VCALENDAR